BEGIN:VCALENDAR
VERSION:2.0
PRODID:-//eventon.com NONSGML v1.0//EN
CALSCALE:GREGORIAN
METHOD:PUBLISH
BEGIN:VEVENT
UID:69e7361b2b8b1
DTSTAMP:20260421T083227Z
DTSTART:20260113T000000Z
DTEND:20260113T030000Z
LOCATION:Radio
SUMMARY:Shane Hewitt & the Nightshift
DESCRIPTION:Shane Hewitt & the Nightshift\nhttps://shanehewitt.ca/events/sh
 ane-hewitt-the-nightshift/var/ri-202.l-L1
URL:https://shanehewitt.ca/events/shane-hewitt-the-nightshift/var/ri-202.l-L1
END:VEVENT
END:VCALENDAR